BEGIN:VCALENDAR
VERSION:2.0
PRODID:-//eventon.com NONSGML v1.0//EN
BEGIN:VEVENT
UID:69e73d1cc08f3
DTSTAMP:20260421T170220
DTSTART:20260325T020000Z
DTEND:20260325T040000Z
LOCATION:Bassendean Memorial Library | 46 Old Perth Road\,  Perth 6054 
SUMMARY:Guardianship and Administration Workshop (Registrations Are Now Closed)
DESCRIPTION: Join us in this interactive two hour session offers clear and practical guidance on the Enduring Power of Guardianship\,  Attorney\,  and the way the State Administrative Tribunal becomes involved in appointing a guardian or administrator when a person can no longer make decisions on their own. The session is led[..]
END:VEVENT
END:VCALENDAR