BEGIN:VCALENDAR
VERSION:2.0
PRODID:-//eventon.com NONSGML v1.0//EN
BEGIN:VEVENT
UID:69e71a0b059e5
DTSTAMP:20260421T143243
DTSTART:20260508T023000Z
DTEND:20260507T163000Z
LOCATION:Pinctada Cable Beach Resort & Spa 10 Murray Rd\,  Broome WA
SUMMARY:Broome Carers High Tea
DESCRIPTION: &nbsp; Join us for a relaxed morning tea designed with carers in mind. Enjoy a selection of delicious treats\,  friendly faces and a welcoming atmosphere where you can unwind and connect with others. This gathering offers a chance to step away from your daily routine and spend time in a[..]
END:VEVENT
END:VCALENDAR