BEGIN:VCALENDAR
VERSION:2.0
PRODID:-//eventon.com NONSGML v1.0//EN
BEGIN:VEVENT
UID:69e71a726a737
DTSTAMP:20260421T143426
DTSTART:20260421T020000Z
DTEND:20260421T050000Z
LOCATION:Broome Circle 27 Fredrick St Broome WA 6725
SUMMARY:Creative Art Session in Broome
DESCRIPTION: Carers in Broome\,  this is for you. Take a well-earned pause and enjoy a calm\,  creative morning designed especially with you in mind. Begin the day with a relaxed morning tea\,  then take part in a guided watercolour art session where you can unwind\,  connect\,  and express your creativity. Whether[..]
END:VEVENT
END:VCALENDAR