BEGIN:VCALENDAR
VERSION:2.0
PRODID:-//eventon.com NONSGML v1.0//EN
BEGIN:VEVENT
UID:69e71a66cee29
DTSTAMP:20260421T143414
DTSTART:20260422T101500Z
DTEND:20260422T120000Z
LOCATION:Sun Pictures 8 Carnarvon Street\,  Broome
SUMMARY:Family Movie Night Broome: The Super Mario Galaxy Movie
DESCRIPTION: Carers WA warmly invites carers living in Broome and their family members to come together for a relaxed family movie night\,  featuring The Super Mario Galaxy Movie. Each family can reserve up to 4 tickets. When: Wednesday\,  22nd April | 6.15pm Where: Sun Pictures | 8 Carnarvon Street\,  Broome Cost:[..]
END:VEVENT
END:VCALENDAR