BEGIN:VCALENDAR
VERSION:2.0
PRODID:-//eventon.com NONSGML v1.0//EN
BEGIN:VEVENT
UID:69e719d2023eb
DTSTAMP:20260421T143146
DTSTART:20260423T030000Z
DTEND:20260423T040000Z
LOCATION:Green Room Cable Beach Resort 
SUMMARY:Carers + Employment Information Session Broome
DESCRIPTION: Join us for an information session on how Western Australian workplaces can effectively support employees with caring responsibilities while strengthening workforce resilience and performance. This session provides a clear overview of the Carers + Employment (C+E) accreditation process\,  practical guidance on how to get started\,  and real‑world examples of the[..]
END:VEVENT
END:VCALENDAR