BEGIN:VCALENDAR
VERSION:2.0
PRODID:-//eventon.com NONSGML v1.0//EN
BEGIN:VEVENT
UID:69e716d431007
DTSTAMP:20260421T141900
DTSTART:20260421T020000Z
DTEND:20260422T060000Z
LOCATION:Cable Beach Resort Broome 
SUMMARY:Be Job Ready Essentials Workshop Broome
DESCRIPTION: Join us in April for the Be Job Ready Essentials Workshop in Broome a practical\,  two‑day course designed to help you confidently apply for jobs\,  succeed in interviews\,  and thrive in your next role. This interactive workshop is packed with hands‑on activities\,  practical tips and real-world skills to support you[..]
END:VEVENT
END:VCALENDAR