BEGIN:VCALENDAR
VERSION:2.0
PRODID:-//eventon.com NONSGML v1.0//EN
BEGIN:VEVENT
UID:69e71ccf6c319
DTSTAMP:20260421T144431
DTSTART:20260528T093000Z
DTEND:20260528T155000Z
LOCATION:Albany Hilton Garden Inn 3 Toll Place
SUMMARY:Albany Carers Dinner
DESCRIPTION: &nbsp; Carers are invited to step away from the everyday demands of caring and join us for a relaxed and welcoming evening at the Albany Carers Dinner. Share a delicious buffet meal\,  enjoy good conversation\,  and connect with other carers who understand the caring role. This evening is about creating[..]
END:VEVENT
END:VCALENDAR