BEGIN:VCALENDAR
VERSION:2.0
PRODID:-//eventon.com NONSGML v1.0//EN
BEGIN:VEVENT
UID:69e71a23e92ae
DTSTAMP:20260421T143307
DTSTART:20260423T020000Z
DTEND:20260423T033000Z
LOCATION:Blue Body Buddha Sanctuary 
SUMMARY:Rest and Sound in Broome
DESCRIPTION: A gentle pause for carers in Broome. Join Nicole for a nurturing\,  deeply restful class created especially for those who give so much to others. This gentle\,  accessible session invites you to slow right down and let yourself be cared for. You will be guided through simple\,  fully supported yoga[..]
END:VEVENT
END:VCALENDAR