BEGIN:VCALENDAR
VERSION:2.0
PRODID:-//eventon.com NONSGML v1.0//EN
BEGIN:VEVENT
UID:69e9d79c3a8d1
DTSTAMP:20260423T162604
DTSTART:20260624T020000Z
DTEND:20260624T040000Z
LOCATION:Thornlie Park Meeting Room | 50-60 Thornlie Ave\,  Thornlie 6108 
SUMMARY:End of Life Matters Workshop
DESCRIPTION: Join Erin for an informative\,  supportive and engaging conversation about Advanced Health Directives (AHDs). Before completing an AHD\,  it is essential to understand what advance healthcare planning really involves and how to make choices that truly reflect you. This session will guide you through the purpose and process of advance[..]
END:VEVENT
END:VCALENDAR