BEGIN:VCALENDAR
VERSION:2.0
PRODID:-//eventon.com NONSGML v1.0//EN
BEGIN:VEVENT
UID:69e9d7e643927
DTSTAMP:20260423T162718
DTSTART:20260513T020000Z
DTEND:20260513T040000Z
LOCATION:Meeting Room 1\,  Bassendean Library\,  46 Old Perth Road\,  Bassendean 
SUMMARY:Befriending Grief and Loss Workshop
DESCRIPTION: This gentle and informative workshop explores the many forms grief can take\,  strategies to help manage our own grief\,  and ways we can support others on their grieving journey. Grief is a natural and necessary part of life and is not limited to bereavement or the death of someone we[..]
END:VEVENT
END:VCALENDAR