BEGIN:VCALENDAR
VERSION:2.0
PRODID:-//eventon.com NONSGML v1.0//EN
BEGIN:VEVENT
UID:69e719c800363
DTSTAMP:20260421T143136
DTSTART:20260508T013000Z
DTEND:20260508T034500Z
LOCATION:Bridgeley Community Centre Northam 93 Wellington Street East\,  Northam
SUMMARY:Northam (Morning): Carer Conversations - Development of the New WA Carers Strategy
DESCRIPTION: This session will provide a safe forum for carers\,  and the agencies supporting them\,  to discuss challenges and identify local solutions. Lead by the Honourable Dr Katrina Stratton MLC\,  you are invited to attend a Carers Conversation in Northam (morning session). Feedback and data obtained in this session will contribute[..]
END:VEVENT
END:VCALENDAR