BEGIN:VCALENDAR
VERSION:2.0
PRODID:-//eventon.com NONSGML v1.0//EN
BEGIN:VEVENT
UID:69e71c136f203
DTSTAMP:20260421T144123
DTSTART:20260508T061500Z
DTEND:20260508T083000Z
LOCATION:Bridgeley Community Centre Northam 93 Wellington Street East\,  Northam
SUMMARY:Northam (afternoon): Carer Conversations - Development of the New WA Carers Strategy
DESCRIPTION: This session will provide a safe forum for carers\,  and the agencies supporting them\,  to discuss challenges and identify local solutions. Lead by the Honourable Dr Katrina Stratton MLC\,  you are invited to attend a Carers Conversation in Northam (afternoon session). Feedback and data obtained in this session will contribute[..]
END:VEVENT
END:VCALENDAR