BEGIN:VCALENDAR
VERSION:2.0
PRODID:-//eventon.com NONSGML v1.0//EN
BEGIN:VEVENT
UID:69ed79f32d708
DTSTAMP:20260426T103531
DTSTART:20260508T023000Z
DTEND:20260508T043000Z
LOCATION:Carers WA | 182 Lord St\,  Perth WA 6000 Or Online
SUMMARY:Mental Health Carer Issues Network Meeting (MHCIN): Alcohol and Other Drug Consumer Community Coalition (AODCCC)
DESCRIPTION: Adele James (AODCCC Systemic Advocate will present an overview of the organisation\,  its systemic advocacy activities\,  and membership. To register\,  please complete registration form.[..]
END:VEVENT
END:VCALENDAR