BEGIN:VCALENDAR
VERSION:2.0
PRODID:-//eventon.com NONSGML v1.0//EN
BEGIN:VEVENT
UID:69ed773b3ad6c
DTSTAMP:20260426T102355
DTSTART:20260519T023000Z
DTEND:20260519T043000Z
LOCATION:Carers WA | 182 Lord St\,  Perth WA 6000 Or Online
SUMMARY:May: Carer Representative Network (CRN): Department of Local Government\,  Industry Regulation and Safety
DESCRIPTION: Kevin Leutenegger & team (from Department of Local Government\,  Industry Regulation and Safety) will provide a presentation on Scams awareness. To register\,  please complete registration form.[..]
END:VEVENT
END:VCALENDAR