BEGIN:VCALENDAR
VERSION:2.0
PRODID:-//eventon.com NONSGML v1.0//EN
BEGIN:VEVENT
UID:69ed773a90f63
DTSTAMP:20260426T102354
DTSTART:20260623T143000Z
DTEND:20260623T043000Z
LOCATION:Carers WA | 182 Lord St\,  Perth WA 6000 Or Online
SUMMARY:Carer Participation in Health Forum (CPiHF): Manage My Care
DESCRIPTION: Joshua Hayes\,  Madeline Croft & Lauryn Magee will provide a presentation on the Manage My Care application that is available across all WA public hospital and health services. To register\,  please complete registration form.[..]
END:VEVENT
END:VCALENDAR